Workbook

Sheet 大商务-专项担保审阅情况汇总-公示
A1: 附件
A2: 2024年度虹桥国际中央商务区专项担保政策支持项目
A3: 序号 | B3: 所属区 | C3: 申报单位名称 | D3: 申请大类 | E3: 申请细类 | F3: 评定意见/金额 （万元） | G3: 评定金额小计 （万元） | H3: 需补资料 | I3: 补上传完成否
A4: 1 | B4: 嘉定区 | C4: ='[1]专项担保(昕诺) -嘉定'!A2 -> 上海昕诺医学研究有限公司 | D4: 专项担保业务 | E4: 担保费补贴 | F4: ='[1]专项担保(昕诺) -嘉定'!F2 -> 0.85 | G4: =F4+F5 -> 3.78
E5: 利息补贴 | F5: ='[1]专项担保(昕诺) -嘉定'!F3 -> 2.93
A6: 2 | B6: 嘉定区 | C6: ='[1]专项担保(杰达齿科)-嘉定'!A2 -> 上海杰达齿科制作有限公司 | D6: 专项担保业务 | E6: 担保费补贴 | F6: ='[1]专项担保(杰达齿科)-嘉定'!F2 -> 2.12 | G6: =F6+F7 -> 10.81
E7: 利息补贴 | F7: ='[1]专项担保(杰达齿科)-嘉定'!F3 -> 8.69
A8: 小计 | F8: =SUM(F4:F7) -> 14.59 | G8: =SUM(G4:G7) -> 14.59
A9: 1 | B9: 青浦区 | C9: =[1]担保利息项目清单!D15 -> 道枢（上海）数字技术有限公司 | D9: 专项担保业务 | E9: 担保费补贴 | F9: ='[1]专项担保(道枢) -青浦'!F2 -> 0 | G9: =F9+F10 -> 17.21
E10: 利息补贴 | F10: ='[1]专项担保(道枢) -青浦'!F3 -> 17.21
A11: 2 | B11: 青浦区 | C11: =[1]担保利息项目清单!D17 -> 上海日远饮品有限公司 | D11: 专项担保业务 | E11: 担保费补贴 | F11: ='[1]专项担保(日远) -青浦'!F2 -> 2.33 | G11: =F11+F12 -> 11.87
E12: 利息补贴 | F12: ='[1]专项担保(日远) -青浦'!F3 -> 9.54
A13: 3 | B13: 青浦区 | C13: =[1]担保利息项目清单!D19 -> 上海仪耐新材料科技有限公司 | D13: 专项担保业务 | E13: 担保费补贴 | F13: ='[1]专项担保(仪耐) -青浦'!F2 -> 0 | G13: =F13+F14 -> 4.89
E14: 利息补贴 | F14: ='[1]专项担保(仪耐) -青浦'!F3 -> 4.89
A15: 4 | B15: 青浦区 | C15: =[1]担保利息项目清单!D21 -> 上海希格玛高技术有限公司 | D15: 专项担保业务 | E15: 担保费补贴 | F15: ='[1]专项担保(希格玛) -青浦'!F2 -> 1.27 | G15: =F15+F16 -> 6.43
E16: 利息补贴 | F16: ='[1]专项担保(希格玛) -青浦'!F3 -> 5.16 | H16: 缺：还款银行回单
A17: 5 | B17: 青浦区 | C17: =[1]担保利息项目清单!D23 -> 逸尚创展（上海）科技有限公司 | D17: 专项担保业务 | E17: 担保费补贴 | F17: ='[1]专项担保(逸尚) -青浦'!F2 -> 1.27 | G17: =F17+F18 -> 6.13
E18: 利息补贴 | F18: ='[1]专项担保(逸尚) -青浦'!F3 -> 4.86
A19: 6 | B19: 青浦区 | C19: =[1]担保利息项目清单!D25 -> 上海永天科技股份有限公司 | D19: 专项担保业务 | E19: 担保费补贴 | F19: ='[1]专项担保(永天) -青浦'!F2 -> 0 | G19: =F19+F20 -> 3.4
E20: 利息补贴 | F20: ='[1]专项担保(永天) -青浦'!F3 -> 3.4
A21: 小计 | F21: =SUM(F9:F20) -> 49.93 | G21: =SUM(G9:G20) -> 49.93
A22: 1 | B22: 长宁区 | C22: =[1]担保利息项目清单!D2 -> 上海通递驿优网络技术有限公司 | D22: 专项担保业务 | E22: 担保费补贴 | F22: ='[1]专项担保(通递驿优)-长宁'!F2 -> 4.25 | G22: =F22+F23 -> 21.73
E23: 利息补贴 | F23: ='[1]专项担保(通递驿优)-长宁'!F3 -> 17.48
A24: 2 | B24: 长宁区 | C24: =[1]担保利息项目清单!D4 -> 上海巅思智能科技有限公司 | D24: 专项担保业务 | E24: 担保费补贴 | F24: ='[1]专项担保(巅思智能)-长宁'!F2 -> 0.63 | G24: =F24+F25 -> 3.24
E25: 利息补贴 | F25: ='[1]专项担保(巅思智能)-长宁'!F3 -> 2.61
A26: 3 | B26: 长宁区 | C26: =[1]担保利息项目清单!D6 -> 上海机场国际旅行社有限公司 | D26: 专项担保业务 | E26: 担保费补贴 | F26: ='[1]专项担保(机场国际旅行社)-长宁'!F2 -> 4.25 | G26: =F26+F27 -> 19.43
E27: 利息补贴 | F27: ='[1]专项担保(机场国际旅行社)-长宁'!F3 -> 15.18 | H27: 企业“贴息计算方式”表多处错误
A28: 4 | B28: 长宁区 | C28: =[1]担保利息项目清单!D8 -> 上海星瀚律师事务所 | D28: 专项担保业务 | E28: 担保费补贴 | F28: ='[1]专项担保(星瀚律师事务所)-长宁'!F2 -> 2.12 | G28: =F28+F29 -> 10.84
E29: 利息补贴 | F29: ='[1]专项担保(星瀚律师事务所)-长宁'!F3 -> 8.72 | H29: 缺：放款银行回单
A30: 5 | B30: 长宁区 | C30: =[1]担保利息项目清单!D10 -> 上海合胜信息服务有限公司 | D30: 专项担保业务 | E30: 担保费补贴 | F30: ='[1]专项担保(合胜信息)-长宁'!F2 -> 1.27 | G30: =F30+F31 -> 6.28
E31: 利息补贴 | F31: ='[1]专项担保(合胜信息)-长宁'!F3 -> 5.01 | H31: 缺:付息凭证
A32: 6 | B32: 长宁区 | C32: =[1]担保利息项目清单!D12 -> 上海凭安征信服务有限公司 | D32: 专项担保业务 | E32: 担保费补贴 | F32: ='[1]专项担保(凭安征信)-长宁'!F2 -> 2.12 | G32: =F32+F33 -> 10.86
E33: 利息补贴 | F33: ='[1]专项担保(凭安征信)-长宁'!F3 -> 8.74 | H33: 补：更正申请表（利率错）
A34: 小计 | F34: =SUM(F22:F33) -> 72.38 | G34: =SUM(G22:G33) -> 72.38
A35: 1 | B35: 闵行区 | C35: 德世普安管理咨询（上海）有限公司 | D35: 专项担保业务 | E35: 担保费补贴 | F35: ='[1]专项担保(德世普安管理咨询)-闵行'!F2 -> 0.1 | G35: =F35+F36 -> 0.16
E36: 利息补贴 | F36: ='[1]专项担保(德世普安管理咨询)-闵行'!F3 -> 0.06
A37: 2 | B37: 闵行区 | C37: 上海原圈网络科技有限公司 | D37: 专项担保业务 | E37: 担保费补贴 | F37: ='[1]专项担保(原圈网络)-闵行-4.06'!F2 -> 0.85 | G37: =F37+F38 -> 4.06
E38: 利息补贴 | F38: ='[1]专项担保(原圈网络)-闵行-4.06'!F3 -> 3.21
A39: 3 | B39: 闵行区 | C39: 上海原圈网络科技有限公司 | D39: 专项担保业务 | E39: 担保费补贴 | F39: ='[1]专项担保(原圈网络)-闵行-2.93'!F2 -> 0.63 | G39: =F39+F40 -> 2.92
E40: 利息补贴 | F40: ='[1]专项担保(原圈网络)-闵行-2.93'!F3 -> 2.29
A41: 4 | B41: 闵行区 | C41: 上海原圈网络科技有限公司 | D41: 专项担保业务 | E41: 担保费补贴 | F41: ='[1]专项担保(原圈网络)-闵行-2.17'!F2 -> 0.42 | G41: =F41+F42 -> 2.03
E42: 利息补贴 | F42: ='[1]专项担保(原圈网络)-闵行-2.17'!F3 -> 1.61
A43: 5 | B43: 闵行区 | C43: 美尚生化环境技术（上海）有限公司 | D43: 专项担保业务 | E43: 担保费补贴 | F43: ='[1]专项担保(美尚生化环境)-闵行'!F2 -> 1.27 | G43: =F43+F44 -> 6.48
E44: 利息补贴 | F44: ='[1]专项担保(美尚生化环境)-闵行'!F3 -> 5.21
A45: 6 | B45: 闵行区 | C45: 上海通正铝结构建设科技有限公司 | D45: 专项担保业务 | E45: 担保费补贴 | F45: ='[1]专项担保(通正铝结构建设)-闵行'!F2 -> 4.03 | G45: =F45+F46 -> 20.64
E46: 利息补贴 | F46: ='[1]专项担保(通正铝结构建设)-闵行'!F3 -> 16.61
A47: 7 | B47: 闵行区 | C47: 上海远东食品有限公司 | D47: 专项担保业务 | E47: 担保费补贴 | F47: ='[1]专项担保(远东食品)-闵行'!F2 -> 4.03 | G47: =F47+F48 -> 18.83
E48: 利息补贴 | F48: ='[1]专项担保(远东食品)-闵行'!F3 -> 14.8
A49: 小计 | F49: =SUM(F35:F48) -> 55.12 | G49: =SUM(G35:G48) -> 55.12
A50: 合计 | F50: =F8+F21+F34+F49 -> 192.02 | G50: =G8+G21+G34+G49 -> 192.02

Sheet 大商务-专项担保审阅情况汇总
A1: 附件
A2: 2024年虹桥国际中央商务区专项担保政策支持项目评审情况汇总表
A3: 序号 | B3: 所属区 | C3: 申报单位名称 | D3: 申请大类 | E3: 申请细类 | F3: 企业申报 补贴金额 （万元） | G3: 评定意见/金额 （万元） | H3: 评定金额小计 （万元） | I3: 备注 | J3: 需补资料 | K3: 补上传完成否
A4: 1 | B4: 嘉定区 | C4: ='[1]专项担保(昕诺) -嘉定'!A2 -> 上海昕诺医学研究有限公司 | D4: 专项担保业务 | E4: 担保费补贴 | F4: ='[1]专项担保(昕诺) -嘉定'!E2 -> 0.85 | G4: ='[1]专项担保(昕诺) -嘉定'!F2 -> 0.85 | H4: =G4+G5 -> 3.78
E5: 利息补贴 | F5: ='[1]专项担保(昕诺) -嘉定'!E3 -> 2.93 | G5: ='[1]专项担保(昕诺) -嘉定'!F3 -> 2.93
A6: 2 | B6: 嘉定区 | C6: ='[1]专项担保(杰达齿科)-嘉定'!A2 -> 上海杰达齿科制作有限公司 | D6: 专项担保业务 | E6: 担保费补贴 | F6: ='[1]专项担保(杰达齿科)-嘉定'!E2 -> 2.13 | G6: ='[1]专项担保(杰达齿科)-嘉定'!F2 -> 2.12 | H6: =G6+G7 -> 10.81
E7: 利息补贴 | F7: ='[1]专项担保(杰达齿科)-嘉定'!E3 -> 8.7 | G7: ='[1]专项担保(杰达齿科)-嘉定'!F3 -> 8.69
A8: 小计 | F8: =SUM(F4:F7) -> 14.61 | G8: =SUM(G4:G7) -> 14.59 | H8: =SUM(H4:H7) -> 14.59
A9: 1 | B9: 青浦区 | C9: =[1]担保利息项目清单!D15 -> 道枢（上海）数字技术有限公司 | D9: 专项担保业务 | E9: 担保费补贴 | F9: ='[1]专项担保(道枢) -青浦'!E2 -> 0 | G9: ='[1]专项担保(道枢) -青浦'!F2 -> 0 | H9: =G9+G10 -> 17.21 | I9: 企业反馈担保费已享受其他补贴
E10: 利息补贴 | F10: ='[1]专项担保(道枢) -青浦'!E3 -> 17.22 | G10: ='[1]专项担保(道枢) -青浦'!F3 -> 17.21
A11: 2 | B11: 青浦区 | C11: =[1]担保利息项目清单!D17 -> 上海日远饮品有限公司 | D11: 专项担保业务 | E11: 担保费补贴 | F11: ='[1]专项担保(日远) -青浦'!E2 -> 2.34 | G11: ='[1]专项担保(日远) -青浦'!F2 -> 2.33 | H11: =G11+G12 -> 11.87
E12: 利息补贴 | F12: ='[1]专项担保(日远) -青浦'!E3 -> 9.49 | G12: ='[1]专项担保(日远) -青浦'!F3 -> 9.54
A13: 3 | B13: 青浦区 | C13: =[1]担保利息项目清单!D19 -> 上海仪耐新材料科技有限公司 | D13: 专项担保业务 | E13: 担保费补贴 | F13: ='[1]专项担保(仪耐) -青浦'!E2 -> 1.28 | G13: ='[1]专项担保(仪耐) -青浦'!F2 -> 0 | H13: =G13+G14 -> 4.89 | I13: 区财政已补贴担保费1.275万元
E14: 利息补贴 | F14: ='[1]专项担保(仪耐) -青浦'!E3 -> 4.89 | G14: ='[1]专项担保(仪耐) -青浦'!F3 -> 4.89
A15: 4 | B15: 青浦区 | C15: =[1]担保利息项目清单!D21 -> 上海希格玛高技术有限公司 | D15: 专项担保业务 | E15: 担保费补贴 | F15: ='[1]专项担保(希格玛) -青浦'!E2 -> 1.28 | G15: ='[1]专项担保(希格玛) -青浦'!F2 -> 1.27 | H15: =G15+G16 -> 6.43
E16: 利息补贴 | F16: ='[1]专项担保(希格玛) -青浦'!E3 -> 5.18 | G16: ='[1]专项担保(希格玛) -青浦'!F3 -> 5.16 | J16: 缺：还款银行回单
A17: 5 | B17: 青浦区 | C17: =[1]担保利息项目清单!D23 -> 逸尚创展（上海）科技有限公司 | D17: 专项担保业务 | E17: 担保费补贴 | F17: ='[1]专项担保(逸尚) -青浦'!E2 -> 1.28 | G17: ='[1]专项担保(逸尚) -青浦'!F2 -> 1.27 | H17: =G17+G18 -> 6.13
E18: 利息补贴 | F18: ='[1]专项担保(逸尚) -青浦'!E3 -> 4.87 | G18: ='[1]专项担保(逸尚) -青浦'!F3 -> 4.86
A19: 6 | B19: 青浦区 | C19: =[1]担保利息项目清单!D25 -> 上海永天科技股份有限公司 | D19: 专项担保业务 | E19: 担保费补贴 | F19: ='[1]专项担保(永天) -青浦'!E2 -> 0.94 | G19: ='[1]专项担保(永天) -青浦'!F2 -> 0 | H19: =G19+G20 -> 3.4 | I19: 区财政已补贴担保费0.935万元
E20: 利息补贴 | F20: ='[1]专项担保(永天) -青浦'!E3 -> 3.4 | G20: ='[1]专项担保(永天) -青浦'!F3 -> 3.4
A21: 小计 | F21: =SUM(F9:F20) -> 52.17 | G21: =SUM(G9:G20) -> 49.93 | H21: =SUM(H9:H20) -> 49.93
A22: 1 | B22: 长宁区 | C22: =[1]担保利息项目清单!D2 -> 上海通递驿优网络技术有限公司 | D22: 专项担保业务 | E22: 担保费补贴 | F22: =[1]担保利息项目清单!G2 -> 4.25 | G22: ='[1]专项担保(通递驿优)-长宁'!F2 -> 4.25 | H22: =G22+G23 -> 21.73
E23: 利息补贴 | F23: =[1]担保利息项目清单!G3 -> 17.49 | G23: ='[1]专项担保(通递驿优)-长宁'!F3 -> 17.48
A24: 2 | B24: 长宁区 | C24: =[1]担保利息项目清单!D4 -> 上海巅思智能科技有限公司 | D24: 专项担保业务 | E24: 担保费补贴 | F24: =[1]担保利息项目清单!G4 -> 0.64 | G24: ='[1]专项担保(巅思智能)-长宁'!F2 -> 0.63 | H24: =G24+G25 -> 3.24
E25: 利息补贴 | F25: =[1]担保利息项目清单!G5 -> 2.61 | G25: ='[1]专项担保(巅思智能)-长宁'!F3 -> 2.61
A26: 3 | B26: 长宁区 | C26: =[1]担保利息项目清单!D6 -> 上海机场国际旅行社有限公司 | D26: 专项担保业务 | E26: 担保费补贴 | F26: =[1]担保利息项目清单!G6 -> 4.25 | G26: ='[1]专项担保(机场国际旅行社)-长宁'!F2 -> 4.25 | H26: =G26+G27 -> 19.43
E27: 利息补贴 | F27: =[1]担保利息项目清单!G7 -> 16.0125 | G27: ='[1]专项担保(机场国际旅行社)-长宁'!F3 -> 15.18 | J27: 企业“贴息计算方式”表多处错误
A28: 4 | B28: 长宁区 | C28: =[1]担保利息项目清单!D8 -> 上海星瀚律师事务所 | D28: 专项担保业务 | E28: 担保费补贴 | F28: =[1]担保利息项目清单!G8 -> 2.125 | G28: ='[1]专项担保(星瀚律师事务所)-长宁'!F2 -> 2.12 | H28: =G28+G29 -> 10.84
E29: 利息补贴 | F29: =[1]担保利息项目清单!G9 -> 9.2264 | G29: ='[1]专项担保(星瀚律师事务所)-长宁'!F3 -> 8.72 | J29: 缺：放款银行回单
A30: 5 | B30: 长宁区 | C30: =[1]担保利息项目清单!D10 -> 上海合胜信息服务有限公司 | D30: 专项担保业务 | E30: 担保费补贴 | F30: =[1]担保利息项目清单!G10 -> 1.275 | G30: ='[1]专项担保(合胜信息)-长宁'!F2 -> 1.27 | H30: =G30+G31 -> 6.28
E31: 利息补贴 | F31: =[1]担保利息项目清单!G11 -> 5.01875 | G31: ='[1]专项担保(合胜信息)-长宁'!F3 -> 5.01 | J31: 缺:付息凭证
A32: 6 | B32: 长宁区 | C32: =[1]担保利息项目清单!D12 -> 上海凭安征信服务有限公司 | D32: 专项担保业务 | E32: 担保费补贴 | F32: =[1]担保利息项目清单!G12 -> 2.125 | G32: ='[1]专项担保(凭安征信)-长宁'!F2 -> 2.12 | H32: =G32+G33 -> 10.86
E33: 利息补贴 | F33: =[1]担保利息项目清单!G13 -> 8.744792 | G33: ='[1]专项担保(凭安征信)-长宁'!F3 -> 8.74 | J33: 补：更正申请表（利率错）
A34: 小计 | F34: =SUM(F22:F33) -> 73.767442 | G34: =SUM(G22:G33) -> 72.38 | H34: =SUM(H22:H33) -> 72.38
A35: 1 | B35: 闵行区 | C35: 德世普安管理咨询（上海）有限公司 | D35: 专项担保业务 | E35: 担保费补贴 | F35: 0.11 | G35: ='[1]专项担保(德世普安管理咨询)-闵行'!F2 -> 0.1 | H35: =G35+G36 -> 0.16
E36: 利息补贴 | F36: 0.07 | G36: ='[1]专项担保(德世普安管理咨询)-闵行'!F3 -> 0.06
A37: 2 | B37: 闵行区 | C37: 上海原圈网络科技有限公司 | D37: 专项担保业务 | E37: 担保费补贴 | F37: 0.85 | G37: ='[1]专项担保(原圈网络)-闵行-4.06'!F2 -> 0.85 | H37: =G37+G38 -> 4.06
E38: 利息补贴 | F38: 3.21 | G38: ='[1]专项担保(原圈网络)-闵行-4.06'!F3 -> 3.21
A39: 3 | B39: 闵行区 | C39: 上海原圈网络科技有限公司 | D39: 专项担保业务 | E39: 担保费补贴 | F39: 0.64 | G39: ='[1]专项担保(原圈网络)-闵行-2.93'!F2 -> 0.63 | H39: =G39+G40 -> 2.92
E40: 利息补贴 | F40: 2.3 | G40: ='[1]专项担保(原圈网络)-闵行-2.93'!F3 -> 2.29
A41: 4 | B41: 闵行区 | C41: 上海原圈网络科技有限公司 | D41: 专项担保业务 | E41: 担保费补贴 | F41: 0.43 | G41: ='[1]专项担保(原圈网络)-闵行-2.17'!F2 -> 0.42 | H41: =G41+G42 -> 2.03
E42: 利息补贴 | F42: 1.75 | G42: ='[1]专项担保(原圈网络)-闵行-2.17'!F3 -> 1.61
A43: 5 | B43: 闵行区 | C43: 美尚生化环境技术（上海）有限公司 | D43: 专项担保业务 | E43: 担保费补贴 | F43: 1.27 | G43: ='[1]专项担保(美尚生化环境)-闵行'!F2 -> 1.27 | H43: =G43+G44 -> 6.48
E44: 利息补贴 | F44: 5.21 | G44: ='[1]专项担保(美尚生化环境)-闵行'!F3 -> 5.21
A45: 6 | B45: 闵行区 | C45: 上海通正铝结构建设科技有限公司 | D45: 专项担保业务 | E45: 担保费补贴 | F45: 4.04 | G45: ='[1]专项担保(通正铝结构建设)-闵行'!F2 -> 4.03 | H45: =G45+G46 -> 20.64
E46: 利息补贴 | F46: 16.62 | G46: ='[1]专项担保(通正铝结构建设)-闵行'!F3 -> 16.61
A47: 7 | B47: 闵行区 | C47: 上海远东食品有限公司 | D47: 专项担保业务 | E47: 担保费补贴 | F47: 4.0375 | G47: ='[1]专项担保(远东食品)-闵行'!F2 -> 4.03 | H47: =G47+G48 -> 18.83
E48: 利息补贴 | F48: 14.8 | G48: ='[1]专项担保(远东食品)-闵行'!F3 -> 14.8
A49: 小计 | F49: =SUM(F35:F48) -> 55.3375 | G49: =SUM(G35:G48) -> 55.12 | H49: =SUM(H35:H48) -> 55.12 | I49: =SUM(I35:I46) -> 0
A50: 合计 | F50: =F8+F21+F34+F49 -> 195.88494 | G50: =G8+G21+G34+G49 -> 192.02 | H50: =H8+H21+H34+H49 -> 192.02
